Workbook

Sheet BS
A1: ASET | B1: 2011 | D1: 2012 | F1: PERUBAHAN | G1: PERSENTASE
A2: ASET LANCAR
A3: Kas dan Setara Kas | B3: 486945350 | D3: 467920775 | F3: =D3-B3 -> -19024575 | G3: =F3/B3 -> -0.03906922
A4: Piutang Dagang | B4: 849792298 | D4: 898725250 | F4: =D4-B4 -> 48932952 | G4: =F4/B4 -> 0.057582249
A5: Piutang Lain-Lain | B5: 29426195 | D5: 14940000 | F5: =D5-B5 -> -14486195 | G5: =F5/B5 -> -0.4922891
A6: Persediaan | B6: 1136000000 | D6: 1182050000 | F6: =D6-B6 -> 46050000 | G6: =F6/B6 -> 0.040536972
A7: Biaya Dibayar Dimuka | B7: 0 | D7: 23000000 | F7: =D7-B7 -> 23000000 | G7: 1
A8: Perlengkapan | B8: 7500000 | D8: 5917500 | F8: =D8-B8 -> -1582500 | G8: =F8/B8 -> -0.211
A9: TOTAL ASET LANCAR | B9: =SUM(B3:B8) -> 2509663843 | D9: =SUM(D3:D8) -> 2592553525 | F9: =D9-B9 -> 82889682 | G9: =F9/B9 -> 0.033028201
A10: ASET TIDAK LANCAR
A11: Investasi Jangka Panjang | B11: 257500000 | D11: 343750000 | F11: =D11-B11 -> 86250000 | G11: =F11/B11 -> 0.33495146
A12: Aset Tetap:
A13: Harga Perolehan | B13: 1733000000 | D13: 1752000000 | F13: =D13-B13 -> 19000000 | G13: =F13/B13 -> 0.010963647
A14: Akumulasi Penyusutan | B14: -181999900 | D14: -266925300 | F14: =D14-B14 -> -84925400 | G14: =F14/B14 -> 0.46662333
A15: Nilai Buku | B15: =B13+B14 -> 1551000100 | D15: =D13+D14 -> 1485074700 | F15: =D15-B15 -> -65925400 | G15: =F15/B15 -> -0.042505091
A16: TOTAL ASET TIDAK LANCAR | B16: =B11+B15 -> 1808500100 | D16: =D11+D15 -> 1828824700 | F16: =D16-B16 -> 20324600 | G16: =F16/B16 -> 0.011238374
A17: TOTAL ASET | B17: =B9+B16 -> 4318163943 | D17: =D9+D16 -> 4421378225 | F17: =D17-B17 -> 103214282 | G17: =F17/B17 -> 0.023902354
A18: LIABILITAS DAN EKUITAS
A19: LIABILITAS
A20: Liabilitas Jangka Pendek
A21: Utang Dagang | B21: 421259006 | D21: 287500000 | F21: =D21-B21 -> -133759006 | G21: =F21/B21 -> -0.31752201
A22: Utang Lain-Lain | B22: 14605913 | D22: 15688018 | F22: =D22-B22 -> 1082105 | G22: =F22/B22 -> 0.074086776
A23: Utang Pajak | B23: 32323038 | D23: 27063926 | F23: =D23-B23 -> -5259112 | G23: =F23/B23 -> -0.16270476
A24: Biaya yang Masih Harus Dibayar | B24: 93000000 | D24: 62403400 | F24: =D24-B24 -> -30596600 | G24: =F24/B24 -> -0.3289957
A25: TOTAL LIABILITAS JANGKA PENDEK | B25: =SUM(B21:B24) -> 561187957 | D25: =SUM(D21:D24) -> 392655344 | F25: =D25-B25 -> -168532613 | G25: =F25/B25 -> -0.30031402
A26: Liabilitas Jangka Panjang
A27: EKUITAS
A28: Modal Saham (100.000 lbr @10.000) | B28: 1000000000 | D28: 1000000000 | F28: =D28-B28 -> 0 | G28: =F28/B28 -> 0
A29: Saldo Laba (Laba Ditahan) | B29: 2756975986 | D29: 3028722881 | F29: =D29-B29 -> 271746895 | G29: =F29/B29 -> 0.098567016
A30: TOTAL EKUITAS | B30: =SUM(B28:B29) -> 3756975986 | D30: =SUM(D28:D29) -> 4028722881 | F30: =D30-B30 -> 271746895 | G30: =F30/B30 -> 0.072331283
A31: TOTAL LIABILITAS DAN EKUITAS | B31: =B25+B26+B30 -> 4318163943 | D31: =D25+D26+D30 -> 4421378225 | F31: =D31-B31 -> 103214282 | G31: =F31/B31 -> 0.023902354
A32: Ctrl | B32: =B17-B31 -> 0 | D32: =D17-D31 -> 0

Sheet PL
A1: AKUN | B1: 2011 | D1: 2012 | F1: Perubahan | G1: Persentase
A2: Penjualan | B2: 5721597850 | D2: 5480859000 | F2: =D2-B2 -> -240738850 | G2: =F2/B2 -> -0.042075458
A3: Harga Pokok Penjualan | B3: 4377276195 | D3: 4422500000 | F3: =D3-B3 -> 45223805 | G3: =F3/B3 -> 0.010331495
A4: Laba Kotor | B4: =B2-B3 -> 1344321655 | D4: =D2-D3 -> 1058359000 | F4: =D4-B4 -> -285962655 | G4: =F4/B4 -> -0.21271892
A5: Beban Usaha | B5: 691642174 | D5: 771313104 | F5: =D5-B5 -> 79670930 | G5: =F5/B5 -> 0.11519097
A6: Laba Usaha | B6: =B4-B5 -> 652679481 | D6: =D4-D5 -> 287045896 | F6: =D6-B6 -> -365633585 | G6: =F6/B6 -> -0.56020389
A7: Pendapatan dan Beban Lain-Lain: | F7: =D7-B7 -> 0
A8: Laba Rugi Valuta Asing | B8: -1300600 | D8: 0 | F8: =D8-B8 -> 1300600 | G8: =F8/B8 -> -1
A9: Pendapatan Bunga | B9: 8654500 | D9: 29133025 | F9: =D9-B9 -> 20478525 | G9: =F9/B9 -> 2.3662286
A10: Beban Bunga | B10: -1864000 | D10: 0 | F10: =D10-B10 -> 1864000 | G10: =F10/B10 -> -1
A11: Pendapatan Lain-Lain Bersih | B11: =SUM(B8:B10) -> 5489900 | D11: =SUM(D8:D10) -> 29133025 | F11: =D11-B11 -> 23643125 | G11: =F11/B11 -> 4.3066586
A12: Laba Sebelum Beban Pajak Penghasilan | B12: =B6+B11 -> 658169381 | D12: =D6+D11 -> 316178921 | F12: =D12-B12 -> -341990460 | G12: =F12/B12 -> -0.51960858
A13: Beban Pajak Penghasilan | B13: 93993814 | D13: 44432026 | F13: =D13-B13 -> -49561788 | G13: =F13/B13 -> -0.52728776
A14: LABA BERSIH | B14: =B12-B13 -> 564175567 | D14: =D12-D13 -> 271746895 | F14: =D14-B14 -> -292428672 | G14: =F14/B14 -> -0.5183292

Sheet RE
B1: 2011 | C1: 2012
A2: Awal Tahun | B2: 2192800419 | C2: 2756975986
A3: Laba Bersih Tahun Berjalan | B3: 564175567 | C3: 271746895
A4: AKHIR TAHUN (2012) | B4: =SUM(B2:B3) -> 2756975986 | C4: =SUM(C2:C3) -> 3028722881
A5: Ctrl | B5: =B4-BS!B29 -> 0 | C5: =C4-BS!D29 -> 0

Sheet LEAD SCHEDULE A2.1
A1: KAP Faiz Ramli dan Rekan | J1: Nama Auditor | K1: Jabatan | L1: Tanggal
A2: Jl. UPI YAI No 97 | I2: Dibuat Oleh:
I3: Diperiksa Oleh:
A4: NAMA KLIEN | B4: PT. PETA | I4: Disetujui Oleh:
A5: FOR YEAR END | B5: 31 Desember 2012
A6: ACC PERIOD | B6: 1 Januari 2012-31 Desember 2012
A8: Schedule | B8: LEAD SCHEDULE
A9: Keterangan | B9: Ref | C9: Per Audit | D9: Per Klien | E9: Percentage | F9: PARE (Proposed Adjustment Reclassification Entires) | H9: Per Audit
B10: KK | C10: 31/12/2011 | D10: 31/12/2012 | F10: Dr | G10: Cr | H10: 31/12/2012
A11: ASET
A12: Aset Lancar
A13: Kas dan Setara Kas | C13: 486945350 | D13: 467920775 | E13: =(D13-C13)/C13 -> -0.03906922
A14: Piutang Dagang | B14: E | C14: 849792298 | D14: 898725250 | E14: =(D14-C14)/C14 -> 0.057582249 | G14: =E!F13 -> 207720000 | H14: =D14-G14 -> 691005250
A15: Piutang Lain-Lain | C15: 29426195 | D15: 14940000 | E15: =(D15-C15)/C15 -> -0.4922891
A16: Persediaan | C16: 1136000000 | D16: 1182050000 | E16: =(D16-C16)/C16 -> 0.040536972
A17: Biaya Dibayar Dimuka | C17: 0 | D17: 23000000 | E17: 1
A18: Perlengkapan | C18: 7500000 | D18: 5917500 | E18: =(D18-C18)/C18 -> -0.211
A19: Total Aset Lancar | C19: =SUM(C13:C18) -> 2509663843 | D19: =SUM(D13:D18) -> 2592553525 | E19: =(D19-C19)/C19 -> 0.033028201
A20: Aset Tidak Lancar
A21: Investasi Jangka Panjang | C21: 257500000 | D21: 343750000 | E21: =(D21-C21)/C21 -> 0.33495146
A22: Aset Tetap:
A23: Harga Perolehan | C23: 1733000000 | D23: 1752000000 | E23: =(D23-C23)/C23 -> 0.010963647
A24: Akumulasi Penyusutan | C24: -181999900 | D24: -266925300 | E24: =(D24-C24)/C24 -> 0.46662333
A25: Nilai Buku | C25: =C23+C24 -> 1551000100 | D25: =D23+D24 -> 1485074700 | E25: =(D25-C25)/C25 -> -0.042505091
A26: Total Aset Tidak Lancar | C26: =C21+C25 -> 1808500100 | D26: =D21+D25 -> 1828824700 | E26: =(D26-C26)/C26 -> 0.011238374
A27: Total Aset | C27: =C19+C26 -> 4318163943 | D27: =D19+D26 -> 4421378225 | E27: =(D27-C27)/C27 -> 0.023902354
A28: Ctr | C28: =C27-BS!B17 -> 0
A29: LIABILITAS DAN EKUITAS
A30: Liabilitas Jangka Pendek
A31: Utang Dagang | C31: 421259006 | D31: 287500000 | E31: =(D31-C31)/C31 -> -0.31752201
A32: Utang Lain-Lain | C32: 14605913 | D32: 15688018 | E32: =(D32-C32)/C32 -> 0.074086776
A33: Utang Pajak | C33: 32323038 | D33: 27063926 | E33: =(D33-C33)/C33 -> -0.16270476
A34: Biaya yang Masih Harus Dibayar | C34: 93000000 | D34: 62403400 | E34: =(D34-C34)/C34 -> -0.3289957
A35: TOTAL LIABILITAS JANGKA PENDEK | C35: =SUM(C31:C34) -> 561187957 | D35: =SUM(D31:D34) -> 392655344 | E35: =(D35-C35)/C35 -> -0.30031402
A36: Liabilitas Jangka Panjang
A37: EKUITAS
A38: Modal Saham (100.000 lbr @10.000) | C38: 1000000000 | D38: 1000000000 | E38: =(D38-C38)/C38 -> 0
A39: Saldo Laba (Laba Ditahan) | C39: 2756975986 | D39: 3028722881 | E39: =(D39-C39)/C39 -> 0.098567016
A40: TOTAL EKUITAS | C40: =SUM(C38:C39) -> 3756975986 | D40: =SUM(D38:D39) -> 4028722881 | E40: =(D40-C40)/C40 -> 0.072331283
A41: TOTAL LIABILITAS DAN EKUITAS | C41: =C35+C36+C40 -> 4318163943 | D41: =D35+D36+D40 -> 4421378225 | E41: =(D41-C41)/C41 -> 0.023902354
A42: Ctr | C42: =C41-BS!B31 -> 0 | D42: =D41-BS!D31 -> 0
A43: Penjualan | B43: PL1 | C43: 5721597850 | D43: 5480859000
A44: Harga Pokok Penjualan | C44: 4377276195 | D44: 4422500000
A45: Laba Kotor | C45: =C43-C44 -> 1344321655 | D45: =D43-D44 -> 1058359000
A46: Beban Usaha | C46: 691642174 | D46: 771313104
A47: Laba Usaha | C47: =C45-C46 -> 652679481 | D47: =D45-D46 -> 287045896
A48: Pendapatan dan Beban Lain-Lain:
A49: Laba Rugi Valuta Asing | C49: -1300600 | D49: 0
A50: Pendapatan Bunga | C50: 8654500 | D50: 29133025
A51: Beban Bunga | C51: -1864000 | D51: 0
A52: Pendapatan Lain-Lain Bersih | C52: =SUM(C49:C51) -> 5489900 | D52: =SUM(D49:D51) -> 29133025
A53: Laba Sebelum Beban Pajak Penghasilan | C53: =C47+C52 -> 658169381 | D53: =D47+D52 -> 316178921
A54: Beban Pajak Penghasilan | C54: 93993814 | D54: 44432026
A55: LABA BERSIH | C55: =C53-C54 -> 564175567 | D55: =D53-D54 -> 271746895
A56: Modal Awal Tahun | C56: 2192800419 | D56: 2756975986
A57: Laba Bersih Tahun Berjalan | B57: LS A3.1 | C57: 564175567 | D57: 271746895
A58: AKHIR TAHUN (2012) | C58: =SUM(C56:C57) -> 2756975986 | D58: =SUM(D56:D57) -> 3028722881

Sheet WTB
A1: KAP Faiz Ramli dan Rekan | J1: Nama Auditor | K1: Jabatan | L1: Tanggal
A2: Jl. UPI YAI No 97 | I2: Dibuat Oleh:
I3: Diperiksa Oleh:
A4: NAMA KLIEN | B4: PT. PETA | I4: Disetujui Oleh:
A5: FOR YEAR END | B5: 31 Desember 2012
A6: ACC PERIOD | B6: 1 Januari 2012-31 Desember 2012
A8: Schedule | B8: WORKING TRIAL BALANCE
A9: Keterangan | B9: Ref | C9: Per Audit | D9: Per Klien | E9: Percentage | F9: PARE (Proposed Adjustment Reclassification Entires) | H9: Per Audit
B10: KK | C10: 31/12/2011 | D10: 31/12/2012 | F10: Dr | G10: Cr | H10: 31/12/2012
A11: ASET
A12: Aset Lancar
A13: Kas dan Setara Kas | C13: 486945350 | D13: 467920775 | E13: =(D13-C13)/C13 -> -0.03906922
A14: Piutang Dagang | B14: E | C14: 849792298 | D14: 898725250 | E14: =(D14-C14)/C14 -> 0.057582249 | G14: =E!F13 -> 207720000 | H14: =D14-G14 -> 691005250
A15: Piutang Lain-Lain | C15: 29426195 | D15: 14940000 | E15: =(D15-C15)/C15 -> -0.4922891
A16: Persediaan | C16: 1136000000 | D16: 1182050000 | E16: =(D16-C16)/C16 -> 0.040536972
A17: Biaya Dibayar Dimuka | C17: 0 | D17: 23000000 | E17: 1
A18: Perlengkapan | C18: 7500000 | D18: 5917500 | E18: =(D18-C18)/C18 -> -0.211
A19: Total Aset Lancar | C19: =SUM(C13:C18) -> 2509663843 | D19: =SUM(D13:D18) -> 2592553525 | E19: =(D19-C19)/C19 -> 0.033028201
A20: Aset Tidak Lancar
A21: Investasi Jangka Panjang | C21: 257500000 | D21: 343750000 | E21: =(D21-C21)/C21 -> 0.33495146
A22: Aset Tetap:
A23: Harga Perolehan | C23: 1733000000 | D23: 1752000000 | E23: =(D23-C23)/C23 -> 0.010963647
A24: Akumulasi Penyusutan | C24: -181999900 | D24: -266925300 | E24: =(D24-C24)/C24 -> 0.46662333
A25: Nilai Buku | C25: =C23+C24 -> 1551000100 | D25: =D23+D24 -> 1485074700 | E25: =(D25-C25)/C25 -> -0.042505091
A26: Total Aset Tidak Lancar | C26: =C21+C25 -> 1808500100 | D26: =D21+D25 -> 1828824700 | E26: =(D26-C26)/C26 -> 0.011238374
A27: Total Aset | C27: =C19+C26 -> 4318163943 | D27: =D19+D26 -> 4421378225 | E27: =(D27-C27)/C27 -> 0.023902354
A28: Ctr | C28: =C27-BS!B17 -> 0
A29: LIABILITAS DAN EKUITAS
A30: Liabilitas Jangka Pendek
A31: Utang Dagang | C31: 421259006 | D31: 287500000 | E31: =(D31-C31)/C31 -> -0.31752201
A32: Utang Lain-Lain | C32: 14605913 | D32: 15688018 | E32: =(D32-C32)/C32 -> 0.074086776
A33: Utang Pajak | C33: 32323038 | D33: 27063926 | E33: =(D33-C33)/C33 -> -0.16270476
A34: Biaya yang Masih Harus Dibayar | C34: 93000000 | D34: 62403400 | E34: =(D34-C34)/C34 -> -0.3289957
A35: TOTAL LIABILITAS JANGKA PENDEK | C35: =SUM(C31:C34) -> 561187957 | D35: =SUM(D31:D34) -> 392655344 | E35: =(D35-C35)/C35 -> -0.30031402
A36: Liabilitas Jangka Panjang
A37: EKUITAS
A38: Modal Saham (100.000 lbr @10.000) | C38: 1000000000 | D38: 1000000000 | E38: =(D38-C38)/C38 -> 0
A39: Saldo Laba (Laba Ditahan) | C39: 2756975986 | D39: 3028722881 | E39: =(D39-C39)/C39 -> 0.098567016
A40: TOTAL EKUITAS | C40: =SUM(C38:C39) -> 3756975986 | D40: =SUM(D38:D39) -> 4028722881 | E40: =(D40-C40)/C40 -> 0.072331283
A41: TOTAL LIABILITAS DAN EKUITAS | C41: =C35+C36+C40 -> 4318163943 | D41: =D35+D36+D40 -> 4421378225 | E41: =(D41-C41)/C41 -> 0.023902354
A42: Ctr | C42: =C41-BS!B31 -> 0 | D42: =D41-BS!D31 -> 0
A43: Penjualan | B43: PL1 | C43: 5721597850 | D43: 5480859000
A44: Harga Pokok Penjualan | C44: 4377276195 | D44: 4422500000
A45: Laba Kotor | C45: =C43-C44 -> 1344321655 | D45: =D43-D44 -> 1058359000
A46: Beban Usaha | C46: 691642174 | D46: 771313104
A47: Laba Usaha | C47: =C45-C46 -> 652679481 | D47: =D45-D46 -> 287045896
A48: Pendapatan dan Beban Lain-Lain:
A49: Laba Rugi Valuta Asing | C49: -1300600 | D49: 0
A50: Pendapatan Bunga | C50: 8654500 | D50: 29133025
A51: Beban Bunga | C51: -1864000 | D51: 0
A52: Pendapatan Lain-Lain Bersih | C52: =SUM(C49:C51) -> 5489900 | D52: =SUM(D49:D51) -> 29133025
A53: Laba Sebelum Beban Pajak Penghasilan | C53: =C47+C52 -> 658169381 | D53: =D47+D52 -> 316178921
A54: Beban Pajak Penghasilan | C54: 93993814 | D54: 44432026
A55: LABA BERSIH | C55: =C53-C54 -> 564175567 | D55: =D53-D54 -> 271746895
A56: Modal Awal Tahun | C56: 2192800419 | D56: 2756975986
A57: Laba Bersih Tahun Berjalan | B57: LS A3.1 | C57: 564175567 | D57: 271746895
A58: AKHIR TAHUN (2012) | C58: =SUM(C56:C57) -> 2756975986 | D58: =SUM(D56:D57) -> 3028722881

Sheet E
A1: KAP Faiz Ramli dan Rekan | J1: Nama Auditor | K1: Jabatan | L1: Tanggal
A2: Jl. UPI YAI No 97 | I2: Dibuat Oleh:
I3: Diperiksa Oleh:
A4: NAMA KLIEN | B4: PT. Universitas Persada Indonesia YAI | I4: Disetujui Oleh:
A5: FOR YEAR END | B5: 31 Desember 2012
A6: ACC PERIOD | B6: 1 Januari 2012-31 Desember 2012
A8: Prosedur Audit | B8: Konfirmasi Piutang Usaha kepada Pihak Eksternal Perusahaan
A9: Schedule | B9: Piutang Usaha
A11: Keterangan | B11: Ref.KK | C11: Audited | D11: Per Klien | E11: PARE | G11: Per Audit
C12: 31/12/2011 | D12: 31/12/2012 | E12: Dr | F12: Cr | G12: 31/12/2012
A13: Piutang Usaha | B13: E1 | C13: ='LEAD SCHEDULE A2.1'!C14 -> 849792298 | D13: ='LEAD SCHEDULE A2.1'!D14 -> 898725250 | F13: ='E1'!E28 -> 207720000 | G13: =D13-F13 -> 691005250
A14: Piutang Lain-Lain | C14: ='LEAD SCHEDULE A2.1'!C15 -> 29426195 | D14: ='LEAD SCHEDULE A2.1'!D15 -> 14940000 | G14: =D14 -> 14940000
A17: Total | C17: =SUM(C13:C16) -> 879218493 | D17: =SUM(D13:D16) -> 913665250 | G17: =SUM(G13:G16) -> 705945250
A18: ctrl | C18: =C17-'LEAD SCHEDULE A2.1'!C14-'LEAD SCHEDULE A2.1'!C15 -> 0 | D18: =D17-'LEAD SCHEDULE A2.1'!D14-'LEAD SCHEDULE A2.1'!D15 -> 0

Sheet E1
A1: KAP Faiz Ramli dan Rekan | I1: Nama Auditor | J1: Jabatan | K1: Tanggal
A2: Jl. UPI YAI No 97 | H2: Dibuat Oleh:
H3: Diperiksa Oleh:
A4: NAMA KLIEN | B4: PT. Universitas Persada Indonesia YAI | H4: Disetujui Oleh:
A5: FOR YEAR END | B5: 31 Desember 2012
A6: ACC PERIOD | B6: 1 Januari 2012-31 Desember 2012
A8: Prosedur Audit | B8: Konfirmasi Piutang Usaha kepada Pihak Eksternal Perusahaan
A9: Schedule | B9: Piutang Usaha
A10: Nama Pelanggan | B10: Ref. KK | C10: Per Klien | D10: PARE | F10: Per Audit
C11: 31/12/2012 | D11: Dr | E11: Cr | F11: 31/12/2012
A12: PT Andalas | C12: 0 | F12: =C12+D12-E12 -> 0
A13: PT Bengkulu | C13: 59400000 | F13: =C13+D13-E13 -> 59400000
A14: Toko Cintaku | C14: 0 | F14: =C14+D14-E14 -> 0
A15: PD. Durian | C15: 0 | F15: =C15+D15-E15 -> 0
A16: Toko Enggano | C16: 55000000 | F16: =C16+D16-E16 -> 55000000
A17: Toko Flaminggo | B17: EE | C17: 87900000 | E17: 13500000 | F17: =C17+D17-E17 -> 74400000
A18: PT Horas | B18: EE | C18: 124475000 | E18: 105600000 | F18: =C18+D18-E18 -> 18875000
A19: PT Ikan | C19: 0 | F19: =C19+D19-E19 -> 0
A20: PT Jambu | C20: 165575250 | F20: =C20+D20-E20 -> 165575250
A21: Toko Kelapa | C21: 36750000 | F21: =C21+D21-E21 -> 36750000
A22: Toko Lemon | C22: 42500000 | F22: =C22+D22-E22 -> 42500000 | H22: Saldo per klien | I22: Retur dan Penerimaan kas per 31 Des | K22: PELUNASAN
A23: PT Manggis | B23: EE | C23: 125375000 | E23: 61120000 | F23: =C23+D23-E23 -> 64255000 | H23: =C23 -> 125375000 | I23: =E23 -> 61120000 | K23: 62500000 | L23: why pelunasan lebih gede dari saldo yang seharusnya?
A24: Toko Nangka | C24: 0 | F24: =C24+D24-E24 -> 0 | J24: Diff | K24: =I23-K23 -> -1380000
A25: PD Sirsak | C25: 51750000 | F25: =C25+D25-E25 -> 51750000
A26: PT Pepaya | C26: 122500000 | F26: =C26+D26-E26 -> 122500000
A27: PD. Rambutan | B27: EE | C27: 27500000 | E27: 27500000 | F27: =C27+D27-E27 -> 0
A28: Total Piutang | C28: =SUM(C12:C27) -> 898725250 | E28: =SUM(E12:E27) -> 207720000 | F28: =SUM(F12:F27) -> 691005250
A29: ctrl | C29: =C28-'LEAD SCHEDULE A2.1'!D14 -> 0
A31: Kesimpulan
A32: Piutang Telah disajikan secara wajar dan sesuai dengan ketentuan GAAP yang berlaku. Namun terdapat selisih konfirmasi karena beberapa hal.
A33: Kami telah melakukan konfirmasi piutang pada tanggal 2 januari 2013
A37: Adjustment
A38: Beban Kerugian Piutang Tak Tertagih | D38: 27500000
B39: Piutang Usaha | E39: 27500000
A40: (Untuk mencatat piutang tak tertagih PF. Rambutan)
A42: Bank BNI | D42: 13500000
B43: Piutang Usaha | E43: 13500000
A44: (Untuk mencatat penerimaan kas yang telah dibayar oleh Toko Flaminggo)
A46: Penjualan | D46: 96000000
A47: PPN Keluaran | D47: 9600000
B48: Piutang Usaha | E48: 105600000
A49: (Untuk mencatat barang yang belum sampai ke PT Horas)
A51: Bank BNI | D51: 40000000
A52: Retur Penjualan | D52: 19200000
A53: PPN Keluaran | D53: 1920000
B54: Piutang Usaha | E54: =SUM(D51:D53) -> 61120000
A55: (Untuk mencatat penerimaan kas dan retur penjualan PT Manggis)

Sheet EE
A1: KAP Faiz Ramli dan Rekan | L1: Nama Auditor | M1: Jabatan | N1: Tanggal
A2: Jl. UPI YAI No 97 | K2: Dibuat Oleh:
K3: Diperiksa Oleh:
A4: NAMA KLIEN | B4: PT. Universitas Persada Indonesia YAI | K4: Disetujui Oleh:
A5: FOR YEAR END | B5: 31 Desember 2012
A6: ACC PERIOD | B6: 1 Januari 2012-31 Desember 2012
A8: Schedule | B8: Subsequent Collection
A11: No | B11: Nama Pelanggan | C11: Alamat | D11: Jumlah Per Klien | E11: Hasil Konfirmasi | G11: Dif | I11: Subsequent Collection
E12: I | F12: II | G12: I | H12: II | I12: Januari 2013
A13: 1 | B13: PT Andalas | D13: 0 | I13: =D13-G13 -> 0 | K13: CB | L13: confirmed balance
A14: 2 | B14: PT Bengkulu | D14: 59400000 | E14: CB | I14: 0 | K14: NR | L14: no repply
A15: 3 | B15: Toko Cintaku | D15: 0 | I15: =D15-G15 -> 0 | K15: RD | L15: Reported Difference
A16: 4 | B16: PD. Durian | D16: 0 | I16: =D16-G16 -> 0
A17: 5 | B17: Toko Enggano | D17: 55000000 | E17: NR | F17: NR | I17: =D17-G17 -> 55000000
A18: 6 | B18: Toko Flaminggo | D18: 87900000 | E18: RD | G18: 13500000 | I18: =D18-G18 -> 74400000
A19: 7 | B19: PT Horas | D19: 124475000 | E19: RD | G19: 105600000 | I19: =D19-G19 -> 18875000
A20: 8 | B20: PT Ikan | D20: 0 | I20: =D20-G20 -> 0
A21: 9 | B21: PT Jambu | D21: 165575250 | E21: CB | I21: 160000000
A22: 10 | B22: Toko Kelapa | D22: 36750000 | E22: CB | I22: 0
A23: 11 | B23: Toko Lemon | D23: 42500000 | E23: NR | F23: NR | I23: 40000000
A24: 12 | B24: PT Manggis | D24: 125375000 | E24: RD | G24: 61120000 | I24: =D24-G24 -> 64255000 | K24: perbedaan karena ada retur penjualan dan pelunasan piutang
A25: 13 | B25: Toko Nangka | D25: 0 | I25: =D25-G25 -> 0
A26: 14 | B26: PD Sirsak | D26: 51750000 | E26: CB | I26: 50000000
A27: 15 | B27: PT Pepaya | D27: 122500000 | E27: CB | I27: 0
A28: 16 | B28: PD. Rambutan | D28: 27500000 | E28: NR | F28: NR | I28: 0
B29: Total | D29: =SUM(D13:D28) -> 898725250
B30: Ctrl | D30: =D29-'LEAD SCHEDULE A2.1'!D14 -> 0

Sheet EE1
A1: KAP Faiz Ramli dan Rekan | H1: Nama Auditor | I1: Jabatan | J1: Tanggal
A2: Jl. UPI YAI No 97 | G2: Dibuat Oleh:
G3: Diperiksa Oleh:
A4: NAMA KLIEN | B4: PT. Universitas Persada Indonesia YAI | G4: Disetujui Oleh:
A5: FOR YEAR END | B5: 31 Desember 2012
A6: ACC PERIOD | B6: 1 Januari 2012-31 Desember 2012
A8: Schedule | B8: Konfirmasi Piutang Respon 1
B10: Jumlah Konfirmasi | C10: Jumlah (Rp) | D10: Persentase (%) Tahun Berjalan | E10: Persentase (%) Tahun Lalu
A11: Saldo menurut konfirmasi (CB) | B11: 5 | C11: 435975250
A12: Selisih yang dilaporkan: (RD) hasil konfirmasi | B12: 3 | C12: 157530000
A13: Selisih dengan catatan klien | C13: 180220000
A14: Kembali melalui pos | B14: 0 | C14: 0
A15: Tidak kembali (NR) | B15: 3 | C15: 125000000
A16: Total yang dikirim | B16: 11 | C16: =SUM(C11:C15) -> 898725250
A17: Total piutang usaha | C17: =C16 -> 898725250
A18: Persentase konfirmasi yang dikirim terhadap total piutang usaha

Sheet EE2
A1: KAP Faiz Ramli dan Rekan | H1: Nama Auditor | I1: Jabatan | J1: Tanggal
A2: Jl. UPI YAI No 97 | G2: Dibuat Oleh:
G3: Diperiksa Oleh:
A4: NAMA KLIEN | B4: PT. Universitas Persada Indonesia YAI | G4: Disetujui Oleh:
A5: FOR YEAR END | B5: 31 Desember 2012
A6: ACC PERIOD | B6: 1 Januari 2012-31 Desember 2012
A8: Schedule | B8: Konfirmasi Piutang Respon 2
B10: Jumlah Konfirmasi | C10: Jumlah (Rp) | D10: Persentase (%) Tahun Berjalan | E10: Persentase (%) Tahun Lalu
A11: Saldo menurut konfirmasi (CB) | B11: 0
A12: Selisih yang dilaporkan: hasil konfirmasi | B12: 0
A13: Selisih dengan catatan klien
A14: Kembali melalui pos | B14: 0
A15: Tidak kembali (NR) | B15: 2 | C15: 97500000
A16: Total yang dikirim | B16: 2 | C16: 97500000
A17: Total piutang usaha | C17: 898725250
A18: Persentase konfirmasi yang dikirim terhadap total piutang usaha

Sheet LEAD SCHEDULE A3.1
A1: KAP Faiz Ramli dan Rekan | I1: Nama Auditor | J1: Jabatan | K1: Tanggal
A2: Jl. UPI YAI No 97 | H2: Dibuat Oleh:
H3: Diperiksa Oleh:
A4: NAMA KLIEN | B4: PT. Universitas Persada Indonesia YAI | H4: Disetujui Oleh:
A5: FOR YEAR END | B5: 31 Desember 2012
A6: ACC PERIOD | B6: 1 Januari 2012-31 Desember 2012
A8: Schedule | B8: LAPORAN LABA RUGI
A9: Keterangan | B9: Ref | C9: Per Audit | D9: Per Klien | E9: PARE (Proposed Adjustment Reclassification Entires) | G9: Per Audit
B10: KK | C10: 31/12/2011 | D10: 31/12/2012 | E10: Dr | F10: Cr | G10: 31/12/2012
A11: Penjualan | B11: PL1 | C11: 5721597850 | D11: 5480859000 | E11: ='PL1'!E18 -> 115200000 | G11: =D11-E11 -> 5365659000
A12: Harga Pokok Penjualan | C12: 4377276195 | D12: 4422500000 | G12: =D12 -> 4422500000
A13: Laba Kotor | C13: =C11-C12 -> 1344321655 | D13: =D11-D12 -> 1058359000 | G13: =G11-G12 -> 943159000
A14: Beban Usaha | C14: 691642174 | D14: 771313104 | G14: =D14 -> 771313104
A15: Laba Usaha | C15: =C13-C14 -> 652679481 | D15: =D13-D14 -> 287045896 | G15: =G13-G14 -> 171845896
A16: Pendapatan dan Beban Lain-Lain:
A17: Laba Rugi Valuta Asing | C17: -1300600 | D17: 0 | G17: =D17 -> 0
A18: Pendapatan Bunga | C18: 8654500 | D18: 29133025 | G18: =D18 -> 29133025
A19: Beban Bunga | C19: -1864000 | D19: 0 | G19: =D19 -> 0
A20: Pendapatan Lain-Lain Bersih | C20: =SUM(C17:C19) -> 5489900 | D20: =SUM(D17:D19) -> 29133025 | G20: =G18 -> 29133025
A21: Laba Sebelum Beban Pajak Penghasilan | C21: =C15+C20 -> 658169381 | D21: =D15+D20 -> 316178921 | G21: =G15+G20 -> 200978921
A22: Beban Pajak Penghasilan | C22: 93993814 | D22: 44432026 | G22: =G21*22% -> 44215363
A23: LABA BERSIH | C23: =C21-C22 -> 564175567 | D23: =D21-D22 -> 271746895 | G23: =G21-G22 -> 1.5676356e+08
A24: Ctrl | C24: =C23-PL!B14 -> 0 | D24: =D23-PL!D14 -> 0

Sheet PL1
A1: KAP Faiz Ramli dan Rekan | J1: Nama Auditor | K1: Jabatan | L1: Tanggal
A2: Jl. UPI YAI No 97 | I2: Dibuat Oleh:
I3: Diperiksa Oleh:
A4: NAMA KLIEN | B4: PT. Universitas Persada Indonesia YAI | I4: Disetujui Oleh:
A5: FOR YEAR END | B5: 31 Desember 2012
A6: ACC PERIOD | B6: 1 Januari 2012-31 Desember 2012
A8: Schedule | B8: Penjualan
A10: Keterangan | B10: Ref KK | C10: Audited | D10: Per Klien | E10: PARE | G10: Per Audit
C11: 31/12/2011 | D11: 31/12/2012 | E11: Dr | F11: Cr | G11: 31/12/2012
A12: Penjualan | B12: E1 | D12: 5547000000 | E12: ='E1'!D46 -> 96000000 | G12: =D12-E12 -> 5451000000
A13: Retur Penjualan | B13: E1 | D13: -55047000 | E13: ='E1'!D52 -> 19200000 | G13: =D13-E13 -> -74247000
A14: Diskon Penjualan | D14: -11094000 | G14: =D14 -> -11094000
A18: Total | D18: =SUM(D12:D17) -> 5480859000 | E18: =SUM(E12:E17) -> 115200000 | G18: =SUM(G12:G17) -> 5365659000
A19: Ctrl | D19: =D18-'LEAD SCHEDULE A3.1'!D11 -> 0
A21: Kesimpulan
A22: Kami telah melakukan audit terhadap asersi manajemen pada akun-akun pendapatan. Auditor menilai bahwa akun pendapatan
A23: telah disajikan secara wajar dan sesuai dengan GAAP

Sheet PL1.1
A1: KAP Faiz Ramli dan Rekan | J1: Nama Auditor | K1: Jabatan | L1: Tanggal
A2: Jl. UPI YAI No 97 | I2: Dibuat Oleh:
I3: Diperiksa Oleh:
A4: NAMA KLIEN | B4: PT. Universitas Persada Indonesia YAI | I4: Disetujui Oleh:
A5: FOR YEAR END | B5: 31 Desember 2012
A6: ACC PERIOD | B6: 1 Januari 2012-31 Desember 2012
A8: Schedule | B8: Cut Off Test
A9: Keterangan | B9: Melakukan pengujian terhadap 3 transaksi terakhir dan 3 transaksi setelah periode neraca
A10: Surat Jalan (SI) | C10: Faktur (Invoice) | E10: Nama Pelanggan | F10: Jumlah | H10: Tanggal Pencatatan
A11: Tanggal | B11: No. | C11: Tanggal | D11: No
A12: 41270 | B12: 136/12/12 | C12: 41270 | D12: F-136/12/12 | E12: PT. Manggis | F12: 105600000 | G12: Vo | H12: =A12 -> 41270
A13: 41272 | B13: 137/12/12 | C13: 41272 | D13: F-137/12/12 | E13: PT. Horas | F13: 105600000 | G13: Vo | H13: =A13 -> 41272
A14: 41272 | B14: 138/12/12 | C14: 41272 | D14: F-138/12/12 | E14: PT. Sirsak | F14: 34650000 | G14: Vo | H14: =A14 -> 41272
A16: 41278 | B16: 001/01/13 | C16: 41278 | D16: F-001/01/13 | E16: Toko Kelapa | F16: 19800000 | G16: Vo | H16: =C16 -> 41278
A17: 41279 | B17: 002/01/13 | C17: 41278 | D17: F-002/01/13 | E17: Toko Lemon | F17: 105600000 | G17: Vo | H17: =C17 -> 41278
A18: 41279 | B18: 003/01/13 | C18: 41279 | D18: F-003/01/13 | E18: PT. Andalas | F18: 237600000 | G18: Vo | H18: =C18 -> 41279
A20: Catatan Pemeriksaan
A21: Syarat pengiriman barang adalah FOB Destination Point, penjualan dicatat (Pendapatan diakui)
A22: pada saat penyerahan barang kepada pelanggan.
A25: Kesimpulan Pemeriksaan
A26: Setelah memeriksa transaksi penjualan sebelum dan sesudah tanggal neraca, kami tidak menemukan adanya pergeseran pencatatn penjualan.
A27: Oleh karena itu, kami menyimpulkan bahwa penjualan sudah dicatat dalam periode yang benar.
A30: Vo (Vouching)
A31: Periksa surat jalan, faktur , dan perhitungan matematisnya. Selain itu, diperiksa pencatatan
A32: di buku penjualan dan dibukukan ke kartu piutang dan kartu stok.

Sheet TOC1
A1: KAP Faiz Ramli dan Rekan | K1: Nama Auditor | L1: Jabatan | M1: Tanggal
A2: Jl. UPI YAI No 97 | J2: Dibuat Oleh:
J3: Diperiksa Oleh:
A4: NAMA KLIEN | B4: PT. Universitas Persada Indonesia YAI | J4: Disetujui Oleh:
A5: FOR YEAR END | B5: 31 Desember 2012
A6: ACC PERIOD | B6: 1 Januari 2012-31 Desember 2012
A8: Schedule | B8: Test Of Control Atas Pengendalian Transaksi Piutang dan Penjualan
A9: Keterangan | B9: Uji Transaksi Penjualan dan Piutang
A11: No | B11: Surat Jalan | D11: Faktur | F11: Nama Pelanggan | G11: Jumlah (Rp) | H11: Bukti Pendukung | I11: Otorisasi | J11: Footing | K11: Periksa Pencatatan Ke
B12: No. | C12: Tgl | D12: No. | E12: Tgl | K12: Buku Penjualan | L12: K. Piutang | M12: Buku Besar
A13: 1 | B13: 132 | C13: 41249 | D13: 132 | E13: =C13 -> 41249 | F13: Toko Flamingo | G13: 41580000 | H13: Ö | I13: Ö | J13: Ö | K13: Ö | L13: Ö | M13: Ö
A14: 2 | B14: 133 | C14: 41252 | D14: 133 | E14: =C14 -> 41252 | F14: PT Bengkulu | G14: 50160000 | H14: Ö | I14: Ö | J14: Ö | K14: Ö | L14: Ö | M14: Ö
A15: 3 | B15: 134 | C15: 41258 | D15: 134 | E15: =C15 -> 41258 | F15: PD Sirsak | G15: 42240000 | H15: Ö | I15: Ö | J15: Ö | K15: Ö | L15: Ö | M15: Ö
A16: 4 | B16: 135 | C16: 41264 | D16: 135 | E16: =C16 -> 41264 | F16: PT. Jambu | G16: 133650000 | H16: Ö | I16: Ö | J16: Ö | K16: Ö | L16: Ö | M16: Ö
A17: 5 | B17: 136 | C17: 41270 | D17: 136 | E17: =C17 -> 41270 | F17: PT. Manggis | G17: 105600000 | H17: Ö | I17: Ö | J17: Ö | K17: Ö | L17: Ö | M17: Ö
A18: 6 | B18: 137 | C18: 41272 | D18: 137 | E18: =C18 -> 41272 | F18: PT. Horas | G18: 105600000 | H18: Ö | I18: Ö | J18: Ö | K18: Ö | L18: Ö | M18: Ö

Sheet LEAD SCHEDULE A3.2
A1: KAP Faiz Ramli dan Rekan | I1: Nama Auditor | J1: Jabatan | K1: Tanggal
A2: Jl. UPI YAI No 97 | H2: Dibuat Oleh:
H3: Diperiksa Oleh:
A4: NAMA KLIEN | B4: PT. Universitas Persada Indonesia YAI | H4: Disetujui Oleh:
A5: FOR YEAR END | B5: 31 Desember 2012
A6: ACC PERIOD | B6: 1 Januari 2012-31 Desember 2012
A8: Schedule | B8: PERUBAHAN LABA DITAHAN
A9: Keterangan | B9: Ref | C9: Per Audit | D9: Per Klien | E9: PARE (Proposed Adjustment Reclassification Entires) | G9: Per Audit
B10: KK | C10: 31/12/2011 | D10: 31/12/2012 | E10: Dr | F10: Cr | G10: 31/12/2012
A11: Awal Tahun | C11: 2192800419 | G11: =C11 -> 2192800419
A12: Laba Bersih Tahun Berjalan | B12: LS A3.1 | C12: 564175567 | G12: ='LEAD SCHEDULE A3.1'!G23 -> 1.5676356e+08
A13: AKHIR TAHUN (2012) | C13: =SUM(C11:C12) -> 2756975986
G14: =G11+G12 -> 2.349564e+09
